Workbook

Sheet AKSİYON TABLOSU
A1: BARKOD | B1: ÜRÜN KODU | C1: İLAÇ ADI
A2: 8699514013181 | B2: =VLOOKUP(A2,Sayfa1!A:B,2,0) -> 1031509 | C2: ABDİ İBRAHİM MELATONİN 3 MG TABLET
A3: 8699514013198 | B3: =VLOOKUP(A3,Sayfa1!A:B,2,0) -> 1031510 | C3: ABDİ İBRAHİM MELATONİN 5 MG TABLET
A4: 8699514011606 | B4: =VLOOKUP(A4,Sayfa1!A:B,2,0) -> 1022100 | C4: ABETYL 250 MG 120 TB
A5: 8699514096641 | B5: =VLOOKUP(A5,Sayfa1!A:B,2,0) -> 1030277 | C5: ABETYL 500 MG 60 F.TB
A6: 8699514350170 | B6: =VLOOKUP(A6,Sayfa1!A:B,2,0) -> 1020222 | C6: ACNELYSE %0.025 KREM 20 GR
A7: 8699514350118 | B7: =VLOOKUP(A7,Sayfa1!A:B,2,0) -> 1019685 | C7: ACNELYSE %0.05 KREM 20 GR
A8: 8699514355908 | B8: =VLOOKUP(A8,Sayfa1!A:B,2,0) -> 1000076 | C8: ACNELYSE 20 g KREM
A9: 8699514380108 | B9: =VLOOKUP(A9,Sayfa1!A:B,2,0) -> 1000136 | C9: ADVANTAN %0.1 MERHEM 30GR
A10: 8699514350255 | B10: =VLOOKUP(A10,Sayfa1!A:B,2,0) -> 1000135 | C10: ADVANTAN KREM %0.1 30GR
A11: 8699514480037 | B11: =VLOOKUP(A11,Sayfa1!A:B,2,0) -> 1000137 | C11: ADVANTAN M %0.1 LOSYON 50GR
A12: 8699514150213 | B12: =VLOOKUP(A12,Sayfa1!A:B,2,0) -> 1008613 | C12: ALYSE 150MG 56 KAPSUL
A13: 8699514150244 | B13: =VLOOKUP(A13,Sayfa1!A:B,2,0) -> 1008611 | C13: ALYSE 25MG 56 KAPSUL
... A438: 8699514570264 | B438: =VLOOKUP(A438,Sayfa1!A:B,2,0) -> 1018180 | C438: ZINXX FORT SURUP 100 ML

Sheet Sayfa1
A1: 8699772750033 | B1: 1021201
A2: 8699514160014 | B2: 1022168
A3: 8699514380108 | B3: 1000136
A4: 8699514150756 | B4: 1018166
A5: 8699772480015 | B5: 1018176
A6: 8699772350066 | B6: 1018178
A7: 8699514150688 | B7: 1018179
A8: 8699514150732 | B8: 1018183
A9: 8699514011682 | B9: 1006918
A10: 8699514091028 | B10: 1008455
A11: 8699514382867 | B11: 1002762
A12: 8699514010197 | B12: 1016578
... A435: 8699772570006 | B435: 1030867

Sheet DAHİL OLMAYAN ÜRÜNLER
A1: İskontoya Dahil Olmayan Ürünler
A2: ABIL10 | B2: 8680683010149 | C2: ABILIFY 10 MG 28 TABLET
A3: ABIL15 | B3: 8680683010156 | C3: ABILIFY 15 MG 28 TABLET
A4: ABILSO | B4: 8680683590023 | C4: ABILIFY 1MG/ML ORAL ÇÖZELTİ 150 ML
A5: ABIL30 | B5: 8680683010163 | C5: ABILIFY 30 MG 28 TABLET
A6: ABIL05 | B6: 8680683010132 | C6: ABILIFY 5 MG 28 TABLET
A7: ABILMA | B7: 8680683780028 | C7: ABILIFY MAINTENA 400 MG 1 FLAKON
A8: JINA15 | B8: 8680683010170 | C8: JINARC 15MG 28 TB
A9: JUNA30 | B9: 8680683010194 | C9: JINARC 30MG 28 TB
A10: PLE100 | B10: 8680683010118 | C10: PLETAL 100 MG 60 TB YERLI
A11: REXU528 | B11: 8680683090028 | C11: REXULTI 0.5 MG 28 F.TB
A12: REXU128 | B12: 8680683090035 | C12: REXULTI 1 MG 28 F.TB
A13: REXU228 | B13: 8680683090042 | C13: REXULTI 2 MG 28 F.TB
... A26: CPSPIB | B26: 8699514110149 | C26: CINKOPAST PORTAKAL+IHLAMUR+BAL 12 PASTIL
